BEGIN:VCALENDAR
VERSION:2.0
PRODID:-//TYPO3/NONSGML Calendarize//EN
        BEGIN:VEVENT
UID:calendarize-1647
DTSTAMP:20260120
DTSTART:20260425
DTEND:20260427
SUMMARY:VKS Sachverständigentage
DESCRIPTION:
LOCATION:Köln
END:VEVENT
        BEGIN:VEVENT
UID:calendarize-1649
DTSTAMP:20260120
DTSTART:20260507
DTEND:20260509
SUMMARY:ZKF Branchentreff
DESCRIPTION:
LOCATION:Köln
END:VEVENT
        BEGIN:VEVENT
UID:calendarize-1651
DTSTAMP:20260120
DTSTART:20260508
DTEND:20260509
SUMMARY:40. Kfz-Sachverständigentag (BVSK)
DESCRIPTION:
LOCATION:Mainz
END:VEVENT
END:VCALENDAR
